BEGIN:VCALENDAR
VERSION:2.0
PRODID:-//Vortex Jazz Club - ECPv4.1.3//NONSGML v1.0//EN
CALSCALE:GREGORIAN
METHOD:PUBLISH
X-WR-CALNAME:Vortex Jazz Club
X-ORIGINAL-URL:https://www.vortexjazz.co.uk
X-WR-CALDESC:Events for Vortex Jazz Club
BEGIN:VEVENT
DTSTART;TZID=UTC+0:20260503T153000
DTEND;TZID=UTC+0:20260503T180000
DTSTAMP:20260420T005203
CREATED:20260312T085609
LAST-MODIFIED:20260312T085609
UID:27073-1777822200-1777831200@www.vortexjazz.co.uk
SUMMARY:London Jazz Orchestra Vortex Sessions - "featuring Tori"
DESCRIPTION:Doors 3:30 PM\, Music 4:00 PM - 2 sets of music\nAbout\nSaxophonist Tori Freestone is one of the most interesting on the London jazz scene\, known for her original and engaging solo style. This gig features her both as soloist and especially composer\, with a new set of pieces created for the LJO. Only the third player/writer to hold her tenor saxophone "chair"\, after Tim Garland and Josephine Davies\, she continues the tradition of LJO players who also contribute as original writing voices. Check out the band\, directed by Scott Stroman\, at their up-close-and personal monthly sessions.
URL:https://www.vortexjazz.co.uk/event/london-jazz-orchestra-vortex-sessions-featuring-tori/
LOCATION:11 Gillett Square\, London\, N16 8AZ
GEO:51.5487082;-0.0764992
X-APPLE-STRUCTURED-LOCATION;VALUE=URI;X-ADDRESS=11 Gillett Square London N16 8AZ;X-APPLE-RADIUS=500;X-TITLE=11 Gillett Square:geo:-0.0764992,51.5487082
ATTACH;FMTTYPE=image/jpeg:https://www.vortexjazz.co.uk/wp-content/uploads/2026/02/LJO-NEW.jpeg
END:VEVENT
END:VCALENDAR