BEGIN:VCALENDAR
VERSION:2.0
PRODID:-//Vortex Jazz Club - ECPv4.1.3//NONSGML v1.0//EN
CALSCALE:GREGORIAN
METHOD:PUBLISH
X-WR-CALNAME:Vortex Jazz Club
X-ORIGINAL-URL:https://www.vortexjazz.co.uk
X-WR-CALDESC:Events for Vortex Jazz Club
BEGIN:VEVENT
DTSTART;TZID=UTC+0:20260508T194500
DTEND;TZID=UTC+0:20260508T223000
DTSTAMP:20260420T024406
CREATED:20260312T111708
LAST-MODIFIED:20260312T112527
UID:27076-1778269500-1778279400@www.vortexjazz.co.uk
SUMMARY:Bruno Heinen's The W ft. Maria Chiara Argirò - Mikrokosmos Album Launch
DESCRIPTION:Doors 7:45 PM\, Music 8:30 PM - 2 sets of music\n \nLine-up:\nBruno Heinen - Piano\nHeidi Vogel - Voice\nAndrea Di Biase - Double bass\nGene Calderazzo - Drum kit\nMaria Chiara Argirò - Piano\n\n \nAbout:\nDrawing on twentieth century classical compositions\, as well as the jazz tradition\, Dr. Bruno Heinen is a German-born\, London-based pianist and professor of jazz piano and composition at Trinity Laban conservatoire. Coming from three generations of classical musicians\, Bruno started playing piano at the age of four. His compositional voice has been informed by his love of composers from Duke Ellington to Béla Bártok and from Wayne Shorter to György Ligeti.\n\nHis work has been described by the Guardian as eclectic\, eccentric and unobtrusively erudite\, following on from his studies with John Taylor\, Fred Hersch\, György Kurtág\, Sir Simon Rattle\, and his doctoral investigation of improvised counterpoint.\n\nHis quartet\, The W is a newly established contemporary jazz group. As vocalist for the Cinematic Orchestra for over 15 years and the go-to vocalist for acts such as Thundercat and Soweto Kinch\, Heidi Vogel has long been a critics choice for her extraordinary voice and velvet tone. On drums is London-based New Yorker Gene Calderazzo\, a leading figure on the international jazz scene whose vast portfolio includes work with Pharoah Sanders\, Radiohead and Freddie Hubbard to name a few. On double bass is Italian Andrea Di Biase who has performed with many leading figures such as Norma Winstone and Kenny Wheeler. Like the four equal lines that make up the letter ‘W’\, the four members of the group come together as one to create a perfectly balanced and compelling new sound. They are a band in the true sense of the word. They meet regularly\, learning the music by heart and shaping Bruno’s distinctive compositions together.\n\nTonight they will be launching the new album inspired by Hungarian composer and pianist Béla Bartók's Mikrokosmos\, which Bruno studied as a child. Bartok composed these books of short pieces as an educational tool to teach his own son at the piano. In this album\, Bruno uses cells and ideas taken from book 6 of Bartók’s work\, as well as lyrics in the form of quotes from Bartók himself\, to create a new suite.\n\nThe album has been produced by acclaimed jazz/electronica artist Maria Chiara Argirò\, with whom Bruno has also been working for many years in their two-piano project and who will feature as special guest for this concert.\n\n \n\n[embed]https://youtu.be/NibCBSg21mM?si=xWpdTkGynazl0Ff4[/embed]
URL:https://www.vortexjazz.co.uk/event/bruno-heinens-the-w-ft-maria-chiara-argiro-mikrokosmos-album-launch/
LOCATION:11 Gillett Square\, London\, N16 8AZ
GEO:51.5487082;-0.0764992
X-APPLE-STRUCTURED-LOCATION;VALUE=URI;X-ADDRESS=11 Gillett Square London N16 8AZ;X-APPLE-RADIUS=500;X-TITLE=11 Gillett Square:geo:-0.0764992,51.5487082
ATTACH;FMTTYPE=image/jpeg:https://www.vortexjazz.co.uk/wp-content/uploads/2026/03/Bruno-Heinens-The-W-ft.-Maria-Chiara-Argirò-Mikrokosmos-Album-Launch.jpeg
END:VEVENT
END:VCALENDAR