BEGIN:VCALENDAR
VERSION:2.0
PRODID:-//Vortex Jazz Club - ECPv4.1.3//NONSGML v1.0//EN
CALSCALE:GREGORIAN
METHOD:PUBLISH
X-WR-CALNAME:Vortex Jazz Club
X-ORIGINAL-URL:https://www.vortexjazz.co.uk
X-WR-CALDESC:Events for Vortex Jazz Club
BEGIN:VEVENT
DTSTART;TZID=UTC+0:20260509T194500
DTEND;TZID=UTC+0:20260509T223000
DTSTAMP:20260420T025218
CREATED:20260330T162153
LAST-MODIFIED:20260330T162153
UID:27146-1778355900-1778365800@www.vortexjazz.co.uk
SUMMARY:Byron Wallen’s Hurricane Bells
DESCRIPTION:Doors 7:45 PM\, Music 8:30 PM - 2 set(s) of music\n \nLine-up:\nByron Wallen - Trumpet\nJonny Mansfield - Vibraphone\nDaniel Kempshell - Guitar\nMenelick Claffey - Bass\nZoe Pascal - Drums\n \nAbout\nBack in 2019 Filthy Lucre commissioned Byron Wallen to write music for 8 musicians responding to Peter Shenai’s "Hurricane Bells". Peter is a contemporary artist who has cast 5 bells\, whose shapes are modeled on the structure of Hurricane Katrina - the storm that devastated New Orleans in 2005. These cyclonic\, irregularly shaped bells produce a tonally complex web of sounds reminiscent of Chinese bells and gongs.\n\nGong instruments in general\, have this amazing political and communicative power: they memorialize\, they mark celebrations\, they sound alarms\, they call communities to gather around important issues.These bells based on the structure of Hurricane Katrina carry a powerful message and set of meanings with them.\n\nThis piece is an exploration of  the socio-political economic climate where their sound resonates. The reason "Hurricane Katrina" incurred such a huge loss of life and destruction was not because of the winds\, but because of the subsequent flooding\, due to insufficient levy infrastructure and the pathetic response of the US federal government.\n\nThis original work for an 8 piece band was set to premier in 2020 which was rescheduled at the Rick Mix in Feb 2022.\n\nThis is a quintet version.\n\nhttps://www.youtube.com/watch?v=3OwWByo1-g8
URL:https://www.vortexjazz.co.uk/event/byron-wallens-hurricane-bells/
LOCATION:11 Gillett Square\, London\, N16 8AZ
GEO:51.5487082;-0.0764992
X-APPLE-STRUCTURED-LOCATION;VALUE=URI;X-ADDRESS=11 Gillett Square London N16 8AZ;X-APPLE-RADIUS=500;X-TITLE=11 Gillett Square:geo:-0.0764992,51.5487082
ATTACH;FMTTYPE=image/jpeg:https://www.vortexjazz.co.uk/wp-content/uploads/2026/03/Untitled-design-1.jpg
END:VEVENT
END:VCALENDAR