BEGIN:VCALENDAR
VERSION:2.0
PRODID:-//Vortex Jazz Club - ECPv4.1.3//NONSGML v1.0//EN
CALSCALE:GREGORIAN
METHOD:PUBLISH
X-WR-CALNAME:Vortex Jazz Club
X-ORIGINAL-URL:https://www.vortexjazz.co.uk
X-WR-CALDESC:Events for Vortex Jazz Club
BEGIN:VEVENT
DTSTART;TZID=UTC+0:20260513T194500
DTEND;TZID=UTC+0:20260513T223000
DTSTAMP:20260420T024055
CREATED:20260326T105230
LAST-MODIFIED:20260326T105243
UID:27135-1778701500-1778711400@www.vortexjazz.co.uk
SUMMARY:Nikki Yeoh Trio
DESCRIPTION:Doors 7:45 PM\, Music 8:30 PM - 2 sets of music\n \nLine-up:\nNikki Yeoh - Piano\nEwan Hastie - Double bass\nMiranda Radford - Drum kit\nAbout:\nAward-winning pianist and composer Nikki Yeoh presents a new trio with bassist Ewan Hastie and drummer Miranda Radford. Having first crossed paths with Hastie at the BBC Young Jazz Musician competition\, Yeoh brings together three distinctive voices from the UK jazz scene. The trio blends composed material with improvisation\, drawing on jazz and contemporary classical influences to create intimate\, adventurous\, and richly interactive music.
URL:https://www.vortexjazz.co.uk/event/nikki-yeoh-trio/
LOCATION:11 Gillett Square\, London\, N16 8AZ
GEO:51.5487082;-0.0764992
X-APPLE-STRUCTURED-LOCATION;VALUE=URI;X-ADDRESS=11 Gillett Square London N16 8AZ;X-APPLE-RADIUS=500;X-TITLE=11 Gillett Square:geo:-0.0764992,51.5487082
ATTACH;FMTTYPE=image/jpeg:https://www.vortexjazz.co.uk/wp-content/uploads/2026/03/Nikki-Yeoh-Trio-.jpeg
END:VEVENT
END:VCALENDAR