BEGIN:VCALENDAR
VERSION:2.0
PRODID:-//Vortex Jazz Club - ECPv4.1.3//NONSGML v1.0//EN
CALSCALE:GREGORIAN
METHOD:PUBLISH
X-WR-CALNAME:Vortex Jazz Club
X-ORIGINAL-URL:https://www.vortexjazz.co.uk
X-WR-CALDESC:Events for Vortex Jazz Club
BEGIN:VEVENT
DTSTART;TZID=UTC+0:20260520T184500
DTEND;TZID=UTC+0:20260520T201500
DTSTAMP:20260420T043329
CREATED:20260318T180134
LAST-MODIFIED:20260413T142938
UID:27103-1779302700-1779308100@www.vortexjazz.co.uk
SUMMARY:Zak Scerri - In Case I Don't See You (Album Launch)
DESCRIPTION:Doors 6:45 PM\, Music 7:15 PM - 1 set of music\n \nLine-up:\nZak Scerri - Guitar\nRoss Anderson - Double bass\nBilly Pod - Drum kit\n\n \nAbout:\nZak Scerri is a guitarist and composer from Australia who now lives in London. His love for guitar began at age 12\, and he has built his music upon the rich jazz tradition while also taking inspiration from more modern and contemporary sounds. Zak’s trio is a vehicle for playing both jazz standards and his original compositions which draw on a wide range of influence from jazz\, rock and groove music.\n\nIn Case I Don’t See You is Zak’s second album and his first recording since relocating to London. This album features the talents of Ross Anderson on double bass and Billy Pod on drums.\n\n \n\n[embed]https://youtu.be/hpkbVJFd89U [/embed]
URL:https://www.vortexjazz.co.uk/event/zak-scerri-in-case-i-dont-see-you/
LOCATION:11 Gillett Square\, London\, N16 8AZ
GEO:51.5487082;-0.0764992
X-APPLE-STRUCTURED-LOCATION;VALUE=URI;X-ADDRESS=11 Gillett Square London N16 8AZ;X-APPLE-RADIUS=500;X-TITLE=11 Gillett Square:geo:-0.0764992,51.5487082
ATTACH;FMTTYPE=image/jpeg:https://www.vortexjazz.co.uk/wp-content/uploads/2026/03/Zak-Scerri-In-Case-I-Dont-See-You-Downstairs.jpeg
END:VEVENT
BEGIN:VEVENT
DTSTART;TZID=UTC+0:20260520T194500
DTEND;TZID=UTC+0:20260520T223000
DTSTAMP:20260420T043329
CREATED:20260414T160321
LAST-MODIFIED:20260415T114444
UID:27224-1779306300-1779316200@www.vortexjazz.co.uk
SUMMARY:TOMORROW’S WARRIORS presents FRONTLINE and YOUTH ENSEMBLE
DESCRIPTION:Doors 7:45 PM\, Music 8:30 PM - 2 sets of music\n \nLine-up:\nYouth Ensemble \nDaniel Scott-Phillips - Drums\nFlo Valentine - Bass\nOtoné Yee-King - Keys\nLucas Heath-Ngugi - Guitar\nKassa Green-Jakcsi - Alto Sax\nCiara Osuagwu - Flute\nMarta Lopez-Baxe - Voice\n\nFrontline \nSophie Warner - Drums\nMia-Rae Daniel - Bass\nLana McIntosh - Keys\nKarely Paola - Guitar\nJulianna Galperina - Tenor Sax\nKiah Nakata - Flute\nSheryl Claros Marquina - Voice\nAbout:\nAs they celebrate their 35-year anniversary\, renowned jazz development organisation\, Tomorrow’s Warriors\, shines a spotlight on some of the finest young emerging jazz talent in London as two of their ensembles come to Vortex for this special double-header.\n\nTomorrow’s Warriors all-female development ensemble\, Frontline\, is rooted in the legendary Warriors tradition carrying the torch lit by those who came before them\, stepping into the spotlight with a sound that is entirely their own. Under the mentorship and musical leadership of acclaimed drummer Romarna Campbell\, the group weaves together their influences of jazz\, latin and contemporary music\, creating a fusion that feels both timeless and thrillingly alive.\n\nTomorrow’s Warriors Frontline don’t simply perform; they transform. With fresh arrangements\, original works and an infectious ability for musical storytelling\, very set is an experience not easily forgotten.\n\nTomorrow’s Warriors Youth Ensemble is a band punching well above their weight – a unique sextet aged 15-19\, the band boasts exceptional talent. They are one of Tomorrow’s Warriors flagship development groups\, mentored by Denys Baptiste – one of the most acclaimed British saxophonists of the 21st century – as well as Binker Golding\, Sultan Stevenson\, and Gary Crosby OBE.\n\nWith influences ranging from bebop and hard bop to spiritual jazz and fusion\, expect a varied\, dynamic\, and exciting set!\n\nMore about Tomorrow’s Warriors\n\nFor the last 35 years\, Tomorrow’s Warriors has played a vital role within its community and the wider music industry and has been credited with literally changing the face of UK jazz.\n\nFree access to Tomorrow’s Warriors artistic programme has proved crucial in nurturing the nascent talent and early careers of so many of the most exciting UK artists currently tearing up the international jazz scene including Mercury Prize 2023 recipients and BRIT Awards Best Group 2025 winners Ezra Collective\, Moses Boyd\, Nubya Garcia\, Shabaka Hutchings and Sons of Kemet\, ESKA\, Jason Yarde\, Denys Baptiste\, Robert Mitchell\, Soweto Kinch\, Shirley Tetteh\, Byron Wallen...the list goes on.\n\nTomorrow’s Warriors offers a pioneering\, free to access\, comprehensive programme of learning and training which champions and supports young Black and female talent and those who come from challenging circumstances that would be a barrier to accessing opportunities to pursue a music career.\n\n“Tomorrow's Warriors occupies a unique and vital space in our cultural landscape. Their work in helping positively shape future generations is of critical importance especially with the tribulations we currently face. Please keep supporting - each one\, teach one!” Gilles Peterson
URL:https://www.vortexjazz.co.uk/event/tomorrows-warriors-presents-frontline-and-youth-ensemble/
LOCATION:11 Gillett Square\, London\, N16 8AZ
GEO:51.5487082;-0.0764992
X-APPLE-STRUCTURED-LOCATION;VALUE=URI;X-ADDRESS=11 Gillett Square London N16 8AZ;X-APPLE-RADIUS=500;X-TITLE=11 Gillett Square:geo:-0.0764992,51.5487082
ATTACH;FMTTYPE=image/jpeg:https://www.vortexjazz.co.uk/wp-content/uploads/2026/04/TOMORROW’S-WARRIORS-presents-FRONTLINE-and-YOUTH-ENSEMBLE.jpeg
END:VEVENT
END:VCALENDAR