BEGIN:VCALENDAR
VERSION:2.0
PRODID:-//Vortex Jazz Club - ECPv4.1.3//NONSGML v1.0//EN
CALSCALE:GREGORIAN
METHOD:PUBLISH
X-WR-CALNAME:Vortex Jazz Club
X-ORIGINAL-URL:https://www.vortexjazz.co.uk
X-WR-CALDESC:Events for Vortex Jazz Club
BEGIN:VEVENT
DTSTART;TZID=UTC+0:20260527T184500
DTEND;TZID=UTC+0:20260527T201500
DTSTAMP:20260420T024111
CREATED:20260415T113530
LAST-MODIFIED:20260415T113530
UID:27228-1779907500-1779912900@www.vortexjazz.co.uk
SUMMARY:Poppy Helmer Quartet
DESCRIPTION:Doors 6:45 PM\, Music 7:15 PM - 1 set of music\n \nLine-up:\nPoppy Helmer - Flute\nTom Shooter - Piano\nGenevieve Namazzi - Double bass\nNoah Ojumu - Drums\nAbout:\nPoppy Helmer is a flautist and saxophonist from Brighton\, now based in London where she studies jazz at Trinity Laban. With the help of her band\, her playful and charming compositions\, such as 'Polar Bear With Rollerskates (In Disguise)' and 'Little Legs'\, are brought to life. Her influences include Eric Dolphy\, Charles Mingus and Thelonious Monk.\n\nWhilst at Trinity Laban\, Poppy has been a member of the Jazz Orchestra\, under the direction of Byron Wallen\, Bruno Heinen and Percy Pursglove. In addition\, she has recently recorded flute on Olivia Murphy's 'Siren Cycle'.\n\nAs well as conservatoire training\, her music education has been shaped by mentorship from Tomorrow's Warriors. In 2025 she had the privilege of making her debut abroad with the Tomorrow's Warriors 'Frontline' ensemble at Le Petit Faucheux in Tours\, France.\n\n \n\n[embed]https://youtu.be/7W-bVo5IdRc[/embed]
URL:https://www.vortexjazz.co.uk/event/poppy-helmer-quartet/
LOCATION:11 Gillett Square\, London\, N16 8AZ
GEO:51.5487082;-0.0764992
X-APPLE-STRUCTURED-LOCATION;VALUE=URI;X-ADDRESS=11 Gillett Square London N16 8AZ;X-APPLE-RADIUS=500;X-TITLE=11 Gillett Square:geo:-0.0764992,51.5487082
ATTACH;FMTTYPE=image/jpeg:https://www.vortexjazz.co.uk/wp-content/uploads/2026/04/Poppy-Helmer-Quartet.jpeg
END:VEVENT
BEGIN:VEVENT
DTSTART;TZID=UTC+0:20260527T194500
DTEND;TZID=UTC+0:20260527T223000
DTSTAMP:20260420T024111
CREATED:20260401T142153
LAST-MODIFIED:20260401T145256
UID:27155-1779911100-1779921000@www.vortexjazz.co.uk
SUMMARY:Noga Ritter Quartet
DESCRIPTION:Doors 7:45 PM\, Music 8:30 PM - 2 set(s) of music\n \nLine-up:\nNoga Ritter - Voice\nTomer Eldor - Piano\nGiuliano Osella - Drum kit\nGiovanni Cresseri - Bass guitar\n\n \n\n \nAbout\nAfter spending the past months in Brazil recording her upcoming album and collaborating with renowned artists including Brazilian legend Chico César\, London-based singer-songwriter and bandleader Noga Ritter returns to one of her favourite venues with her beloved quartet.\n\nAt this special concert\, Noga will perform music from IMA alongside brand new material from her upcoming album recorded in Brazil — presented for the first time in London.\n\nNoga released her debut album IMA (Galileo Music\, 2023) to critical acclaim\, featuring award-winning artists Tony Kofi\, Byron Wallen and Seckou Keita. Her work received international press reviews\, and since its release she has toured across the UK\, Europe\, Senegal and Brazil\, including a sold-out show at the EFG London Jazz Festival and appearances on BBC One.\n\n“An immensely promising debut and dizzyingly diverse listen… a writer of serious potential” – Jazzwise\n\n“Irresistible sound\, music that defies any musical genres” – Jazz FM\n\nBlending jazz with global influences shaped by her travels\, international collaborations and life in multicultural London\, Noga’s music moves between intimacy and powerful collective energy. Singing in English and Hebrew\, her songs weave deeply personal stories with wider global and social themes\, creating performances known for their emotional depth and strong connection with audiences.\n\nThe evening will also feature a unique live recording and filming of her new song Rehumanise\, a response to the ongoing war and the dehumanisation we are witnessing across the world. In the song\, she asks “how can we rehumanise?” and invites the audience to take part by singing together. By joining\, you become part of this collective moment — and of a song calling to reconnect with our shared humanity\, to be released as a single and video.\n\n \n\n \n\n[embed]https://www.youtube.com/watch?v=QZrfc9WILdc[/embed]\n\n \n\n[embed]https://www.youtube.com/watch?v=GbQ4CrDYeO0[/embed]\n\n[embed]https://open.spotify.com/album/1pjBAh5A9THFN6gwCjevgs?si=UbKAZczZTDyi3_3NXi7Z6g[/embed]
URL:https://www.vortexjazz.co.uk/event/noga-ritter-quartet/
LOCATION:11 Gillett Square\, London\, N16 8AZ
GEO:51.5487082;-0.0764992
X-APPLE-STRUCTURED-LOCATION;VALUE=URI;X-ADDRESS=11 Gillett Square London N16 8AZ;X-APPLE-RADIUS=500;X-TITLE=11 Gillett Square:geo:-0.0764992,51.5487082
ATTACH;FMTTYPE=image/jpeg:https://www.vortexjazz.co.uk/wp-content/uploads/2026/04/Album-cover-picture-photographer-Nik-Pate-750x500.jpg
END:VEVENT
END:VCALENDAR