BEGIN:VCALENDAR
VERSION:2.0
PRODID:-//Vortex Jazz Club - ECPv4.1.3//NONSGML v1.0//EN
CALSCALE:GREGORIAN
METHOD:PUBLISH
X-WR-CALNAME:Vortex Jazz Club
X-ORIGINAL-URL:https://www.vortexjazz.co.uk
X-WR-CALDESC:Events for Vortex Jazz Club
BEGIN:VEVENT
DTSTART;TZID=UTC+0:20260528T193000
DTEND;TZID=UTC+0:20260528T230000
DTSTAMP:20260420T025847
CREATED:20260305T145001
LAST-MODIFIED:20260410T113948
UID:27058-1779996600-1780009200@www.vortexjazz.co.uk
SUMMARY:EXTRA - Peter Evans/Petter Eldh/Jim Black (2 Shows)
DESCRIPTION:Timings:\n1st Show\nDoors 7:00 PM\, Music 7:30 PM – 1 set of music\n2nd Show\nDoors 9:00 PM\, Music 9:30 PM – 1 set of music\n \n\n\n\nLine-up:\nPeter Evans - trumpet\nPetter Eldh - bass\, sampler\nJim Black - drums\, laptop\nAbout:\nIn EXTRA\, three of contemporary music’s most fearless improvisers collide in a sonic high-speed chase that redefines what a jazz trio can be. Far from revisiting standards or offering tidy interplay\, the group constructs an explosive\, multilayered language where glitchy electronics\, hardcore grooves\, and unruly textures crash into one another—often within a single phrase.\n\nThe band fuses Evans’ sculptural trumpet vocabularies with Eldh’s hyperactive bass playing and Jim Black’s volatile rhythmic outbursts. The result is a kinetic\, shape-shifting sound world where every moment is packed with risk and surprise. Each musician pushes the others into new terrain: Evans fires compressed bursts of sound or labyrinthine melodic spirals\, Eldh loops\, twists\, and distorts the pulse\, while Black triggers acoustic and electronic ruptures that defy easy categorization.\n\nDescribed as “relentless in the best way” (Free Jazz Collective)\, EXTRA creates music that is at once deeply technical and gleefully anarchic. It is a band with no brakes\, where even moments of silence feel charged with potential energy. Their debut album\, EXTRA (2024\, We Jazz Records)\, has been called “one of the best jazz records of the year” (Monolith Cocktail)\, celebrated for its urgent pace and wild\, genre-bending unpredictability.\n\nEXTRA isn’t just a band—it’s a dare. For listeners ready to be hurled into the unexpected\, this trio offers the thrill of pure musical combustion\, with no safety net in sight.\n\n \n\n[embed]https://www.youtube.com/watch?v=IVMsgT9Hq0s&t[/embed]
URL:https://www.vortexjazz.co.uk/event/extra-peter-evanspetter-eldhjim-black/
LOCATION:11 Gillett Square\, London\, N16 8AZ
GEO:51.5487082;-0.0764992
X-APPLE-STRUCTURED-LOCATION;VALUE=URI;X-ADDRESS=11 Gillett Square London N16 8AZ;X-APPLE-RADIUS=500;X-TITLE=11 Gillett Square:geo:-0.0764992,51.5487082
ATTACH;FMTTYPE=image/jpeg:https://www.vortexjazz.co.uk/wp-content/uploads/2026/03/EXTRA.jpeg
END:VEVENT
END:VCALENDAR