BEGIN:VCALENDAR
VERSION:2.0
PRODID:-//Vortex Jazz Club - ECPv4.1.3//NONSGML v1.0//EN
CALSCALE:GREGORIAN
METHOD:PUBLISH
X-WR-CALNAME:Vortex Jazz Club
X-ORIGINAL-URL:https://www.vortexjazz.co.uk
X-WR-CALDESC:Events for Vortex Jazz Club
BEGIN:VEVENT
DTSTART;TZID=UTC+0:20260529T194500
DTEND;TZID=UTC+0:20260529T223000
DTSTAMP:20260420T023222
CREATED:20260327T110007
LAST-MODIFIED:20260326T091028
UID:27131-1780083900-1780093800@www.vortexjazz.co.uk
SUMMARY:Peter Evans & Evan Parker
DESCRIPTION:Doors 7:45 PM\, Music 8:30 PM - 3 sets of music\n1st Set - Peter Evans (Solo)\n\n2nd Set - Evan Parker (Solo)\n\n(Not necessarily in that order)\n\n3rd Set - Peter Evans & Evan Parker (duo)\nAbout:\nEvan Parker and Peter Evans have a relationship going back over 20 years to the early 2000s\, when the (then) young trumpeter sought out a major influence and inspiration. Over the intervening years\, the two have worked together in countless configurations including the collaborative group Rocket Science (with Craig Taborn and Sam Pluta)\, Parker's famed Electro-Acoustic Ensemble\, trio with Okkyung Lee\, quartet with Barry Guy and Paul Lytton\, and many more throughout Europe\, UK and Canada. This will be their first duo concert in the UK.\n\nPeter Evans: https://www.peterevanstrumpet.com/about-peter-evans\nEvan Parker: http://evanparker.com/biography.php
URL:https://www.vortexjazz.co.uk/event/peter-evans-evan-parker/
LOCATION:11 Gillett Square\, London\, N16 8AZ
GEO:51.5487082;-0.0764992
X-APPLE-STRUCTURED-LOCATION;VALUE=URI;X-ADDRESS=11 Gillett Square London N16 8AZ;X-APPLE-RADIUS=500;X-TITLE=11 Gillett Square:geo:-0.0764992,51.5487082
ATTACH;FMTTYPE=image/jpeg:https://www.vortexjazz.co.uk/wp-content/uploads/2026/03/Peter-Evans-Evan-Parker.jpeg
END:VEVENT
END:VCALENDAR