BEGIN:VCALENDAR
VERSION:2.0
PRODID:-//Vortex Jazz Club - ECPv4.1.3//NONSGML v1.0//EN
CALSCALE:GREGORIAN
METHOD:PUBLISH
X-WR-CALNAME:Vortex Jazz Club
X-ORIGINAL-URL:https://www.vortexjazz.co.uk
X-WR-CALDESC:Events for Vortex Jazz Club
BEGIN:VEVENT
DTSTART;TZID=UTC+0:20260606T194500
DTEND;TZID=UTC+0:20260606T223000
DTSTAMP:20260420T061108
CREATED:20260406T145714
LAST-MODIFIED:20260406T145720
UID:27192-1780775100-1780785000@www.vortexjazz.co.uk
SUMMARY:Rebecka Edlund with Hans Koller Quartet
DESCRIPTION:Doors 7:45 PM\, Music 8:30 PM - 2 set(s) of music\n \nLine-up:\nHans Koller - Piano\nJohn O'Gallagher - Alto saxophone\nLouis Koller - trombone\nRebecka Edlund - voice\nTom Sheen - Double bass\nSacha Harlan - Drum kit\n\n \nAbout\nPianist/composer Hans Koller returns to the club with his long-time musical collaborateur\, saxophonist John O'Gallagher in a new band featuring the amazing vocalist Rebecka Edlund\, the brilliant rhythm section of Tom Sheen (bass) and Sacha Harlan (drums)\, plus the exciting new trombone player on the scene\, Louis Koller - featuring new and old compositions around the poetry of Fernando Pessoa\, Joseph Brodsky\, and Friedrich Hölderlin.\n\n \n\n[embed]https://youtu.be/uTi5F-qPxC4?si=vutkIUlaqEcyZ6e8 https://youtu.be/KDD4KHosZlY?si=3SRhFKaQZ3D6gdp4[/embed]
URL:https://www.vortexjazz.co.uk/event/rebecka-edlund-with-hans-koller-quartet/
LOCATION:11 Gillett Square\, London\, N16 8AZ
GEO:51.5487082;-0.0764992
X-APPLE-STRUCTURED-LOCATION;VALUE=URI;X-ADDRESS=11 Gillett Square London N16 8AZ;X-APPLE-RADIUS=500;X-TITLE=11 Gillett Square:geo:-0.0764992,51.5487082
ATTACH;FMTTYPE=image/jpeg:https://www.vortexjazz.co.uk/wp-content/uploads/2026/04/Untitled-design-5.jpg
END:VEVENT
END:VCALENDAR