BEGIN:VCALENDAR
VERSION:2.0
PRODID:-//Vortex Jazz Club - ECPv4.1.3//NONSGML v1.0//EN
CALSCALE:GREGORIAN
METHOD:PUBLISH
X-WR-CALNAME:Vortex Jazz Club
X-ORIGINAL-URL:https://www.vortexjazz.co.uk
X-WR-CALDESC:Events for Vortex Jazz Club
BEGIN:VEVENT
DTSTART;TZID=UTC+0:20260620T194500
DTEND;TZID=UTC+0:20260620T223000
DTSTAMP:20260420T061239
CREATED:20260417T135229
LAST-MODIFIED:20260417T135229
UID:27243-1781984700-1781994600@www.vortexjazz.co.uk
SUMMARY:David Austin Grey - A Hologram Maze
DESCRIPTION:Doors 7:45 PM\, Music 8:30 PM - 2 sets of music\n \nLine-up:\nDavid Austin Grey - Piano\nSam Wooster - Trumpet\nShivraj Singh - Double bass\nNathan England-Jones - Drum kit\n\n \nAbout\n“A band with crazy telepathy who really enjoy the music.”\nMr. Scruff\n\nA welcome return to the Vortex from this highly acclaimed Birmingham-based ensemble Led by pianist/composer David Austin Grey\n\nThis close-knit group of the UK’s finest improvisers bring a deep sense of understanding and common purpose to each composition.\n\nThe music unfolds equally in gently weaving turns and dynamic sweeps as they navigate different moods and emotions; from sweet and tender\, through to frenetic\, assertive energy.\n\nThe band draws from contemporary jazz\, alongside hip-hop\, electronica\, bebop\, minimalism and romantic classical music\, producing warm\, reflective\, open-hearted and lyrical jazz.\n\nThis appearance sees the band performing all-new material from their forthcoming album release.\n\n \n\n[embed]https://www.youtube.com/watch?v=Ho_JOcfFhoI[/embed]
URL:https://www.vortexjazz.co.uk/event/david-austin-grey-a-hologram-maze/
LOCATION:11 Gillett Square\, London\, N16 8AZ
GEO:51.5487082;-0.0764992
X-APPLE-STRUCTURED-LOCATION;VALUE=URI;X-ADDRESS=11 Gillett Square London N16 8AZ;X-APPLE-RADIUS=500;X-TITLE=11 Gillett Square:geo:-0.0764992,51.5487082
ATTACH;FMTTYPE=image/jpeg:https://www.vortexjazz.co.uk/wp-content/uploads/2026/04/David-Austin-Grey-A-Hologram-Maze.jpeg
END:VEVENT
END:VCALENDAR