BEGIN:VCALENDAR
VERSION:2.0
PRODID:-//Vortex Jazz Club - ECPv4.1.3//NONSGML v1.0//EN
CALSCALE:GREGORIAN
METHOD:PUBLISH
X-WR-CALNAME:Vortex Jazz Club
X-ORIGINAL-URL:https://www.vortexjazz.co.uk
X-WR-CALDESC:Events for Vortex Jazz Club
BEGIN:VEVENT
DTSTART;TZID=UTC+0:20260630T194500
DTEND;TZID=UTC+0:20260630T223000
DTSTAMP:20260420T061138
CREATED:20260402T153006
LAST-MODIFIED:20260402T153006
UID:27165-1782848700-1782858600@www.vortexjazz.co.uk
SUMMARY:Finn Carter Quartet
DESCRIPTION:Doors 7:45 PM\, Music 8:30 PM - 2 set(s) of music\n \nLine-up:\nKaidi Akinnibi - Tenor Saxophone\n\nFinn Carter - Piano\n\nJoe MacLaren - Double Bass\n\nBlake Cascoe - Drums\n\n \nAbout\nPart of Finn Carter’s monthly residency at the Vortex showcasing a new project each month.\nThis month\, he starts his residency with his quartet\, who have played to a sold-out Vortex\ncrowd on multiple occasions.\n\nLed by pianist and composer Finn Carter\, the members of this group all approach improvising\nfrom the same perspective: trying to serve the music and remove the ego from improvising.\nWith credits including Loyle Carner\, Olivia Dean\, Sampha and Tom Misch\, these in-demand\nplayers are all technically virtuosic\, but the music they create together is more than that; it is\nsensitive\, emotive and synergistic.\n\n“I’d be amazed if Londoner Carter doesn’t become the next most in-demand UK jazz pianist\n on the basis of this recording alone” – Stephen Graham\, Marlbank\n\n “A fabulously talented piano player” – Jamie Cullum\, BBC Radio 2\n\n“This is his first solo release and it’s terrific…Finn has an ear for melody and an ability to\n leave space and build mood.” – Eddie Myer\, Jazzwise\n\n “Carter's sensitive\, mature and fluent piano is backed by some stellar performances\, making\n this a remarkable debut” – Neil Duggan\, All About Jazz\n\n“I have seen many established and renowned acts perform at Ronnie Scott’s since 1990 and\n never have I been so impressed” – DJ Fitzroy\, Soul Survivors Magazine\n\n 
URL:https://www.vortexjazz.co.uk/event/finn-carter-quartet-3/
LOCATION:11 Gillett Square\, London\, N16 8AZ
GEO:51.5487082;-0.0764992
X-APPLE-STRUCTURED-LOCATION;VALUE=URI;X-ADDRESS=11 Gillett Square London N16 8AZ;X-APPLE-RADIUS=500;X-TITLE=11 Gillett Square:geo:-0.0764992,51.5487082
ATTACH;FMTTYPE=image/jpeg:https://www.vortexjazz.co.uk/wp-content/uploads/2026/04/Finn-Carter-Promo-pic.jpg
END:VEVENT
END:VCALENDAR